BEGIN:VCALENDAR
VERSION:2.0
PRODID:-//Menthonnex-en-Bornes - ECPv5.14.1//NONSGML v1.0//EN
CALSCALE:GREGORIAN
METHOD:PUBLISH
X-WR-CALNAME:Menthonnex-en-Bornes
X-ORIGINAL-URL:https://www.menthonnex-en-bornes.fr
X-WR-CALDESC:Évènements pour Menthonnex-en-Bornes
BEGIN:VTIMEZONE
TZID:Europe/Paris
BEGIN:DAYLIGHT
TZOFFSETFROM:+0100
TZOFFSETTO:+0200
TZNAME:CEST
DTSTART:20260329T010000
END:DAYLIGHT
BEGIN:STANDARD
TZOFFSETFROM:+0200
TZOFFSETTO:+0100
TZNAME:CET
DTSTART:20261025T010000
END:STANDARD
END:VTIMEZONE
BEGIN:VEVENT
DTSTART;TZID=Europe/Paris:20260223T193000
DTEND;TZID=Europe/Paris:20260223T193000
DTSTAMP:20260421T105454
CREATED:20260210T132845Z
LAST-MODIFIED:20260306T183445Z
UID:59656-1771875000-1771875000@www.menthonnex-en-bornes.fr
SUMMARY:Conseil municipal
DESCRIPTION:Ordre du jour du conseil municipal du 23 février 2026 à télécharger (format PDF\, 32 Ko) \n\n\n		\n			\n			\n		\n\n		\n\nOrdre du jour du conseil municipal du 23 février 2026 à télécharger (format PDF\, 32 Ko).
URL:https://www.menthonnex-en-bornes.fr/agenda/conseil-municipal-43/
LOCATION:Salle du conseil\, 21 Place de la Mairie\, Menthonnex-en-Bornes\, 74350\, France
CATEGORIES:Vie municipale
GEO:46.05285467086;6.1724556910908
X-APPLE-STRUCTURED-LOCATION;VALUE=URI;X-ADDRESS=Salle du conseil 21 Place de la Mairie Menthonnex-en-Bornes 74350 France;X-APPLE-RADIUS=500;X-TITLE=21 Place de la Mairie:geo:6.1724556910908,46.05285467086
END:VEVENT
END:VCALENDAR