BEGIN:VCALENDAR
VERSION:2.0
PRODID:-//Menthonnex-en-Bornes - ECPv5.14.1//NONSGML v1.0//EN
CALSCALE:GREGORIAN
METHOD:PUBLISH
X-WR-CALNAME:Menthonnex-en-Bornes
X-ORIGINAL-URL:https://www.menthonnex-en-bornes.fr
X-WR-CALDESC:Évènements pour Menthonnex-en-Bornes
BEGIN:VTIMEZONE
TZID:Europe/Paris
BEGIN:DAYLIGHT
TZOFFSETFROM:+0100
TZOFFSETTO:+0200
TZNAME:CEST
DTSTART:20240331T010000
END:DAYLIGHT
BEGIN:STANDARD
TZOFFSETFROM:+0200
TZOFFSETTO:+0100
TZNAME:CET
DTSTART:20241027T010000
END:STANDARD
END:VTIMEZONE
BEGIN:VEVENT
DTSTART;VALUE=DATE:20240916
DTEND;VALUE=DATE:20240928
DTSTAMP:20260423T090224
CREATED:20240912T115650Z
LAST-MODIFIED:20240912T115650Z
UID:56665-1726444800-1727481599@www.menthonnex-en-bornes.fr
SUMMARY:Fermeture du secrétariat de mairie
DESCRIPTION:Le secrétariat de mairie sera fermé du 16 au 27 septembre inclus.
URL:https://www.menthonnex-en-bornes.fr/agenda/fermeture-du-secretariat-de-mairie-32/
CATEGORIES:Vie municipale
ATTACH;FMTTYPE=image/jpeg:https://www.menthonnex-en-bornes.fr/wp-content/uploads/2023/08/Mairie-scaled.jpg
END:VEVENT
END:VCALENDAR